BEGIN:VCALENDAR
VERSION:2.0
PRODID:-//ChamberMaster//Event Calendar 2.0//EN
METHOD:PUBLISH
X-PUBLISHED-TTL:P3D
REFRESH-INTERVAL:P3D
CALSCALE:GREGORIAN
BEGIN:VEVENT
DTSTART:20221017T163000Z
DTEND:20221017T180000Z
X-MICROSOFT-CDO-ALLDAYEVENT:FALSE
SUMMARY:22/23 - Mayoral Debate
DESCRIPTION:Join the Brandon Chamber of Commerce as we host Mayoral Candidates Jeff Fawcett and Elliott Oleson for a debate prior to the election. \n\n\n\nThere will be 10 questions asked\, and each candidate will have two minutes to answer\, with one minute to rebuttal from the opposing candidate.  After the initial 10 questions\, there will be time for Q&A from the public.
X-ALT-DESC;FMTTYPE=text/html:Join the Brandon Chamber of Commerce as we host Mayoral Candidates Jeff Fawcett and Elliott Oleson for a debate prior to the election.&nbsp\;<br />\n<br />\nThere will be 10 questions asked\, and each candidate will have two minutes to answer\, with one minute to rebuttal from the opposing candidate.&nbsp\; After the initial 10 questions\, there will be time for Q&amp\;A from the public.
LOCATION:Keystone Centre Amphitheatre 1175 18th Street Brandon\, MB
UID:e.1595.2290
SEQUENCE:3
DTSTAMP:20260422T082507Z
URL:https://members.brandonchamber.ca/events/details/22-23-mayoral-debate-2290
END:VEVENT

END:VCALENDAR
