BEGIN:VCALENDAR
VERSION:2.0
PRODID:-//ChamberMaster//Event Calendar 2.0//EN
METHOD:PUBLISH
X-PUBLISHED-TTL:P3D
REFRESH-INTERVAL:P3D
CALSCALE:GREGORIAN
BEGIN:VEVENT
DTSTART:20230606T210000Z
DTEND:20230607T000000Z
X-MICROSOFT-CDO-ALLDAYEVENT:FALSE
SUMMARY:Brandon Tech Mash-up "Digital Transformation: Navigating the Modern Business Landscape
DESCRIPTION:When did our business become a digital business?\n\n\n\nWe may not always see it this way\, but regardless of size\, location or industry\, modern businesses are becoming digital businesses. These digital businesses just happen to operate within certain sectors.\n\n \n\nKent Smith is a Partner at ourCIO and has devoted his career to understanding and building technology strategies as an Executive Digital Advisor/Chief Information Technology Officer. His presentation will dissect the buzzwords and dive into real boardroom insights on how small and midsize businesses here in Manitoba and across the prairies are digitally transforming their companies.\n\n \n\nWe must also recognize as modern-day businesses that we have a fiduciary responsibility to protect our customers\, employees and shareholders from the growing threat of cyber. The presentation will also share key insights for management teams and board members to consider in their roles and responsibilities toward IT risk management and cybersecurity.\n\n\n\nThose in attendance will gain:\n\n\n	Real world insights on what other Manitoba businesses are thinking about and doing related to IT\, technology strategy\, and digital adoption\n	Key insights management teams\, owners\, and board members should consider in their roles and responsibilities toward IT risk management and cybersecurity\n	An opportunity to connect with other businesses and discuss digital adoption and strategy\n\n\n\n\n\nMeet the Presenter:\n\n\n\nKent Smith\n\nPartner\, Executive Digital Advisor - OurCIO\n\nKent Smith is a founding Partner at ourCIO where he set forth on his vision of levelling the playing field for small and medium businesses by creating a model where SME's can access much needed trusted advice and leadership around digital technology - just like larger enterprises benefit from. \n\n \n\nKent has been employed in Information Technology since he was a teenager in the late 1990's. As a young achiever\, he progressed through various technology roles and into executive IT leadership roles in his mid-20's where he has continued to grow since. \n\n \n\nKnown for his progressive leadership style\, Kent has an exceptional ability to foster relationships\, institute positive change\, and simply get things done. He brings business acumen and an entrepreneurial spirit to the work he does. He is a champion of continuous improvement with a keen interest in helping businesses transform and innovate. Kent is well versed in IT risk management including that of closely managing cybersecurity for the businesses he serves. \n\n\n\nFor more information: https://members.techmanitoba.ca/events/details/brandon-tech-mash-up-digital-transformation-navigating-the-modern-business-landscape-1326
X-ALT-DESC;FMTTYPE=text/html:<p font-size:="" helvetica="" style="box-sizing: border-box\; margin: 0px 0px 10px\; color: rgb(0\, 0\, 0)\; font-family: rubrik-edge-new\, Arial\, sans-serif\; font-size: 16px\;"><span style="font-size:14px\;"><span style="box-sizing: border-box\; font-weight: bolder\;">When did our business become a digital business?</span><br style="box-sizing: border-box\;" />\n<br style="box-sizing: border-box\;" />\nWe may not always see it this way\, but regardless of size\, location or industry\, modern businesses are becoming digital businesses. These digital businesses just happen to operate within certain sectors.<br style="box-sizing: border-box\;" />\n&nbsp\;<br style="box-sizing: border-box\;" />\nKent Smith is a Partner at ourCIO and has devoted his career to understanding and building technology strategies as an Executive Digital Advisor/Chief Information Technology Officer. His presentation will dissect the buzzwords and dive into real boardroom insights on how small and midsize businesses here in Manitoba and across the prairies are digitally transforming their companies.<br style="box-sizing: border-box\;" />\n&nbsp\;<br style="box-sizing: border-box\;" />\nWe must also recognize as modern-day businesses that we have a fiduciary responsibility to protect our customers\, employees and shareholders from the growing threat of cyber. The presentation will also share key insights for management teams and board members to consider in their roles and responsibilities toward IT risk management and cybersecurity.<br style="box-sizing: border-box\;" />\n<br style="box-sizing: border-box\;" />\n<span style="box-sizing: border-box\; font-weight: bolder\;">Those in attendance will gain:</span></span></p>\n\n<ul style="box-sizing: border-box\; margin: 0px 0px 1rem\; padding-right: 0px\; padding-left: 2em\; list-style-position: initial\; list-style-image: initial\; color: rgb(0\, 0\, 0)\; font-family: rubrik-edge-new\, Arial\, sans-serif\; font-size: 16px\;">\n	<li style="box-sizing: border-box\; margin: 0px 0px 0px 0cm\;"><span style="font-size:14px\;">Real world insights on what other Manitoba businesses are thinking about and doing related to IT\, technology strategy\, and digital adoption</span></li>\n	<li style="box-sizing: border-box\; margin: 0px 0px 0px 0cm\;"><span style="font-size:14px\;">Key insights management teams\, owners\, and board members should consider in their roles and responsibilities toward IT risk management and cybersecurity</span></li>\n	<li style="box-sizing: border-box\; margin: 0px 0px 0px 0cm\;"><span style="font-size:14px\;">An opportunity to connect with other businesses and discuss digital adoption and strategy</span></li>\n</ul>\n\n<hr style="box-sizing: content-box\; height: 0px\; overflow: visible\; border-top-color: rgba(0\, 0\, 0\, 0.1)\; margin: 1rem 0px\; color: rgb(0\, 0\, 0)\; font-family: rubrik-edge-new\, Arial\, sans-serif\; font-size: 16px\;" />\n<p font-size:="" helvetica="" style="box-sizing: border-box\; margin: 0px 0px 10px\; color: rgb(0\, 0\, 0)\; font-family: rubrik-edge-new\, Arial\, sans-serif\; font-size: 16px\;"><br style="box-sizing: border-box\;" />\n<span style="font-size:14px\;"><span font-size:="" helvetica="" style="box-sizing: border-box\;"><span style="box-sizing: border-box\; font-weight: bolder\;">Meet the Presenter:</span><br style="box-sizing: border-box\;" />\n<br style="box-sizing: border-box\;" />\nKent Smith<br style="box-sizing: border-box\;" />\nPartner\, Executive Digital Advisor - OurCIO</span><br style="box-sizing: border-box\;" />\n<span class="TextRun SCXW114448463 BCX0" data-contrast="auto" lang="EN-US" style="box-sizing: border-box\; margin: 0px\; padding: 0px\; user-select: text\; -webkit-user-drag: none\; -webkit-tap-highlight-color: transparent\; font-variant-numeric: normal\; font-variant-east-asian: normal\; font-variant-alternates: normal\; color: windowtext\; font-style: normal\; white-space: pre-wrap\; line-height: 18.3458px\; font-family: Calibri\, Calibri_EmbeddedFont\, Calibri_MSFontService\, sans-serif\;" xml:lang="EN-US"><span class="NormalTextRun SCXW114448463 BCX0" style="box-sizing: border-box\; margin: 0px\; padding: 0px\; user-select: text\; -webkit-user-drag: none\; -webkit-tap-highlight-color: transparent\;">Kent Smith is a founding Partner at </span><span 1px="" border-bottom:="" class="NormalTextRun SpellingErrorV2Themed SCXW114448463 BCX0" data:image="" solid="" style="box-sizing: border-box\; margin: 0px\; padding: 0px\; user-select: text\; -webkit-user-drag: none\; -webkit-tap-highlight-color: transparent\; background-repeat: repeat-x\; background-position: left bottom\; background-image: var(--urlSpellingErrorV2\, url(\;">ourCIO</span><span class="NormalTextRun SCXW114448463 BCX0" style="box-sizing: border-box\; margin: 0px\; padding: 0px\; user-select: text\; -webkit-user-drag: none\; -webkit-tap-highlight-color: transparent\;"> where he set forth on his vision of levelling the playing field for small and medium businesses by creating a model where SME&#39\;s can access much needed trusted advice and leadership around digital technology - just like larger enterprises </span><span class="NormalTextRun SCXW114448463 BCX0" style="box-sizing: border-box\; margin: 0px\; padding: 0px\; user-select: text\; -webkit-user-drag: none\; -webkit-tap-highlight-color: transparent\;">benefit</span><span class="NormalTextRun SCXW114448463 BCX0" style="box-sizing: border-box\; margin: 0px\; padding: 0px\; user-select: text\; -webkit-user-drag: none\; -webkit-tap-highlight-color: transparent\;"> from.</span></span><span class="LineBreakBlob BlobObject DragDrop SCXW114448463 BCX0" style="box-sizing: border-box\; margin: 0px\; padding: 0px\; user-select: text\; -webkit-user-drag: none\; -webkit-tap-highlight-color: transparent\; color: windowtext\; white-space: pre-wrap\; line-height: 18.3458px\; font-family: WordVisiCarriageReturn_MSFontService\, Calibri\, Calibri_EmbeddedFont\, Calibri_MSFontService\, sans-serif\;"><span class="SCXW114448463 BCX0" style="box-sizing: border-box\; margin: 0px\; padding: 0px\; user-select: text\; -webkit-user-drag: none\; -webkit-tap-highlight-color: transparent\; white-space: pre !important\;">&nbsp\;</span></span><br class="SCXW114448463 BCX0" style="box-sizing: border-box\; margin: 0px\; padding: 0px\; user-select: text\; -webkit-user-drag: none\; -webkit-tap-highlight-color: transparent\; white-space: pre !important\;" />\n<span class="LineBreakBlob BlobObject DragDrop SCXW114448463 BCX0" style="box-sizing: border-box\; margin: 0px\; padding: 0px\; user-select: text\; -webkit-user-drag: none\; -webkit-tap-highlight-color: transparent\; color: windowtext\; white-space: pre-wrap\; line-height: 18.3458px\; font-family: WordVisiCarriageReturn_MSFontService\, Calibri\, Calibri_EmbeddedFont\, Calibri_MSFontService\, sans-serif\;"><span class="SCXW114448463 BCX0" style="box-sizing: border-box\; margin: 0px\; padding: 0px\; user-select: text\; -webkit-user-drag: none\; -webkit-tap-highlight-color: transparent\; white-space: pre !important\;">&nbsp\;</span></span><br class="SCXW114448463 BCX0" style="box-sizing: border-box\; margin: 0px\; padding: 0px\; user-select: text\; -webkit-user-drag: none\; -webkit-tap-highlight-color: transparent\; white-space: pre !important\;" />\n<span class="TextRun SCXW114448463 BCX0" data-contrast="auto" lang="EN-US" style="box-sizing: border-box\; margin: 0px\; padding: 0px\; user-select: text\; -webkit-user-drag: none\; -webkit-tap-highlight-color: transparent\; font-variant-numeric: normal\; font-variant-east-asian: normal\; font-variant-alternates: normal\; color: windowtext\; font-style: normal\; white-space: pre-wrap\; line-height: 18.3458px\; font-family: Calibri\, Calibri_EmbeddedFont\, Calibri_MSFontService\, sans-serif\;" xml:lang="EN-US">Kent has been employed in Information Technology since he was a teenager in the late 1990&#39\;s. As a young achiever\, he progressed through various technology roles and into executive IT leadership roles in his mid-20&#39\;s where he has continued to grow since.</span><span class="LineBreakBlob BlobObject DragDrop SCXW114448463 BCX0" style="box-sizing: border-box\; margin: 0px\; padding: 0px\; user-select: text\; -webkit-user-drag: none\; -webkit-tap-highlight-color: transparent\; color: windowtext\; white-space: pre-wrap\; line-height: 18.3458px\; font-family: WordVisiCarriageReturn_MSFontService\, Calibri\, Calibri_EmbeddedFont\, Calibri_MSFontService\, sans-serif\;"><span class="SCXW114448463 BCX0" style="box-sizing: border-box\; margin: 0px\; padding: 0px\; user-select: text\; -webkit-user-drag: none\; -webkit-tap-highlight-color: transparent\; white-space: pre !important\;">&nbsp\;</span></span><br class="SCXW114448463 BCX0" style="box-sizing: border-box\; margin: 0px\; padding: 0px\; user-select: text\; -webkit-user-drag: none\; -webkit-tap-highlight-color: transparent\; white-space: pre !important\;" />\n<span class="LineBreakBlob BlobObject DragDrop SCXW114448463 BCX0" style="box-sizing: border-box\; margin: 0px\; padding: 0px\; user-select: text\; -webkit-user-drag: none\; -webkit-tap-highlight-color: transparent\; color: windowtext\; white-space: pre-wrap\; line-height: 18.3458px\; font-family: WordVisiCarriageReturn_MSFontService\, Calibri\, Calibri_EmbeddedFont\, Calibri_MSFontService\, sans-serif\;"><span class="SCXW114448463 BCX0" style="box-sizing: border-box\; margin: 0px\; padding: 0px\; user-select: text\; -webkit-user-drag: none\; -webkit-tap-highlight-color: transparent\; white-space: pre !important\;">&nbsp\;</span></span><br class="SCXW114448463 BCX0" style="box-sizing: border-box\; margin: 0px\; padding: 0px\; user-select: text\; -webkit-user-drag: none\; -webkit-tap-highlight-color: transparent\; white-space: pre !important\;" />\n<span class="TextRun SCXW114448463 BCX0" data-contrast="auto" lang="EN-US" style="box-sizing: border-box\; margin: 0px\; padding: 0px\; user-select: text\; -webkit-user-drag: none\; -webkit-tap-highlight-color: transparent\; font-variant-numeric: normal\; font-variant-east-asian: normal\; font-variant-alternates: normal\; color: windowtext\; font-style: normal\; white-space: pre-wrap\; line-height: 18.3458px\; font-family: Calibri\, Calibri_EmbeddedFont\, Calibri_MSFontService\, sans-serif\;" xml:lang="EN-US"><span class="NormalTextRun SCXW114448463 BCX0" style="box-sizing: border-box\; margin: 0px\; padding: 0px\; user-select: text\; -webkit-user-drag: none\; -webkit-tap-highlight-color: transparent\;">Known for his progressive leadership style\, Kent has an exceptional ability to foster relationships\, institute positive change\, and simply get things done. He brings business acumen and an entrepreneurial spirit to the work he does. He is a champion of continuous improvement with a keen interest in helping businesses transform and innovate. Kent is well versed in IT risk management including that of </span><span class="NormalTextRun SCXW114448463 BCX0" style="box-sizing: border-box\; margin: 0px\; padding: 0px\; user-select: text\; -webkit-user-drag: none\; -webkit-tap-highlight-color: transparent\;">closely managing</span><span class="NormalTextRun SCXW114448463 BCX0" style="box-sizing: border-box\; margin: 0px\; padding: 0px\; user-select: text\; -webkit-user-drag: none\; -webkit-tap-highlight-color: transparent\;"> cybersecurity for the businesses he serves.</span></span><span class="EOP SCXW114448463 BCX0" data-ccp-props="{" style="box-sizing: border-box\; margin: 0px\; padding: 0px\; user-select: text\; -webkit-user-drag: none\; -webkit-tap-highlight-color: transparent\; color: windowtext\; white-space: pre-wrap\; line-height: 18.3458px\; font-family: Calibri\, Calibri_EmbeddedFont\, Calibri_MSFontService\, sans-serif\;">&nbsp\;<br />\n<br />\nFor more information: </span><a href="https://members.techmanitoba.ca/events/details/brandon-tech-mash-up-digital-transformation-navigating-the-modern-business-landscape-1326">https://members.techmanitoba.ca/events/details/brandon-tech-mash-up-digital-transformation-navigating-the-modern-business-landscape-1326</a></span></p>\n
LOCATION:Firehall Event Venue 637 Princess Ave\, Brandon\, MB
UID:e.1595.2592
SEQUENCE:3
DTSTAMP:20260419T232509Z
URL:https://members.brandonchamber.ca/events/details/brandon-tech-mash-up-digital-transformation-navigating-the-modern-business-landscape-2592
END:VEVENT

END:VCALENDAR
