BEGIN:VCALENDAR
VERSION:2.0
PRODID:-//ChamberMaster//Event Calendar 2.0//EN
METHOD:PUBLISH
X-PUBLISHED-TTL:P3D
REFRESH-INTERVAL:P3D
CALSCALE:GREGORIAN
BEGIN:VEVENT
DTSTART:20250523T234000Z
DTEND:20250524T020000Z
X-MICROSOFT-CDO-ALLDAYEVENT:FALSE
SUMMARY:Celebrating 40 Years of Community Service
DESCRIPTION:Save the Date! The Counselling Centre celebrates 40 years of service to the community! Order of Canada recipient\, humanitarian\, actor and singer song-writer Tom Jackson will be joined by Brandon's own Prairie Blend and Akicita Cante Waste (the Good Hearted Warriors)
X-ALT-DESC;FMTTYPE=text/html:Save the Date! The Counselling Centre celebrates 40 years of service to the community! Order of Canada recipient\, humanitarian\, actor and singer song-writer Tom Jackson will be joined by Brandon&rsquo\;s own Prairie Blend and Akicita Cante Waste (the Good Hearted Warriors)
LOCATION:Knox United Church\, Brandon\, Manitoba
UID:e.1595.2850
SEQUENCE:3
DTSTAMP:20260419T132343Z
URL:https://members.brandonchamber.ca/events/details/celebrating-40-years-of-community-service-2850
END:VEVENT

END:VCALENDAR
