BEGIN:VCALENDAR
VERSION:2.0
PRODID:-//ChamberMaster//Event Calendar 2.0//EN
METHOD:PUBLISH
X-PUBLISHED-TTL:P3D
REFRESH-INTERVAL:P3D
CALSCALE:GREGORIAN
BEGIN:VEVENT
DTSTART:20250430T200000Z
DTEND:20250430T220000Z
X-MICROSOFT-CDO-ALLDAYEVENT:FALSE
SUMMARY:Customer Care Champions: Elevate Every Interaction
DESCRIPTION:Presented by: Weddings by Abby.\n\nEnhance Customer Service & Build Stronger Relationships.\n\n\n\nExcellent customer service can set your business apart! This workshop will teach you how to handle customer interactions professionally\, address complaints effectively\, and ensure client satisfaction.\n\n\n\nIn this workshop\, you'll learn:\n\n\n	Best practices for exceptional customer service\n	How to handle difficult situations & customer complaints\n	Strategies to turn first-time buyers into loyal customers\n\n\nLimited spots available!
X-ALT-DESC;FMTTYPE=text/html:<p style="box-sizing: border-box\; margin-bottom: 20px\; font-size: 18px\; line-height: inherit\; margin-top: 0px\; color: rgb(74\, 78\, 87)\; font-family: Lato\, Arial\, Helvetica\, sans-serif\;"><span style="font-size:14px\;">Presented by: Weddings by Abby.</span></p>\n\n<p class="cvGsUA direction-ltr align-start para-style-body" style="box-sizing: border-box\; margin-bottom: 20px\; font-size: 18px\; line-height: inherit\; margin-top: 0px\; color: rgb(74\, 78\, 87)\; font-family: Lato\, Arial\, Helvetica\, sans-serif\;"><span style="font-size:14px\;"><span class="OYPEnA font-feature-liga-off font-feature-clig-off font-feature-calt-off text-decoration-none text-strikethrough-none" style="box-sizing: border-box\;">Enhance Customer Service &amp\; Build Stronger Relationships.</span></span></p>\n\n<div class="form-input-wide" data-layout="full" id="cid_35" style="box-sizing: border-box\; color: rgb(74\, 78\, 87)\; font-family: Lato\, Arial\, Helvetica\, sans-serif\; font-size: 18px\;">\n<div class="form-html" data-component="text" id="text_35" style="box-sizing: border-box\;" tabindex="-1">\n<p style="box-sizing: border-box\; margin-bottom: 20px\; font-size: inherit\; line-height: inherit\; margin-top: 0px\;"><span style="font-size:14px\;">Excellent customer service can set your business apart! This workshop will teach you how to handle customer interactions professionally\, address complaints effectively\, and ensure client satisfaction.</span></p>\n</div>\n</div>\n\n<p class="cvGsUA direction-ltr align-start para-style-body" style="box-sizing: border-box\; margin-bottom: 20px\; font-size: 18px\; line-height: inherit\; margin-top: 0px\; color: rgb(74\, 78\, 87)\; font-family: Lato\, Arial\, Helvetica\, sans-serif\;"><span style="font-size:14px\;"><span class="OYPEnA font-feature-liga-off font-feature-clig-off font-feature-calt-off text-decoration-none text-strikethrough-none" style="box-sizing: border-box\;">In this workshop\, you&rsquo\;ll learn:</span></span></p>\n\n<ul style="box-sizing: border-box\; margin-bottom: 20px\; padding-right: 0px\; padding-left: 0px\; font-size: 18px\; line-height: inherit\; list-style-position: inside\; margin-top: 0px\; color: rgb(74\, 78\, 87)\; font-family: Lato\, Arial\, Helvetica\, sans-serif\;">\n	<li style="box-sizing: border-box\;"><span style="font-size:14px\;"><span class="OYPEnA font-feature-liga-off font-feature-clig-off font-feature-calt-off text-decoration-none text-strikethrough-none" style="box-sizing: border-box\;">Best practices for exceptional customer service</span></span></li>\n	<li style="box-sizing: border-box\;"><span style="font-size:14px\;"><span class="OYPEnA font-feature-liga-off font-feature-clig-off font-feature-calt-off text-decoration-none text-strikethrough-none" style="box-sizing: border-box\;">How to handle difficult situations &amp\; customer complaints</span></span></li>\n	<li style="box-sizing: border-box\;"><span style="font-size:14px\;"><span class="OYPEnA font-feature-liga-off font-feature-clig-off font-feature-calt-off text-decoration-none text-strikethrough-none" style="box-sizing: border-box\;">Strategies to turn first-time buyers into loyal customers</span></span></li>\n</ul>\n\n<p class="cvGsUA direction-ltr align-start para-style-body" style="box-sizing: border-box\; margin-bottom: 20px\; font-size: 18px\; line-height: inherit\; margin-top: 0px\; color: rgb(74\, 78\, 87)\; font-family: Lato\, Arial\, Helvetica\, sans-serif\;"><span style="font-size:14px\;"><span class="OYPEnA font-feature-liga-off font-feature-clig-off font-feature-calt-off text-decoration-none text-strikethrough-none" style="box-sizing: border-box\;">Limited spots available!</span></span></p>\n
LOCATION:Entrepreneur Hub 902 Rosser Avenue
UID:e.1595.2839
SEQUENCE:3
DTSTAMP:20260423T140803Z
URL:https://members.brandonchamber.ca/events/details/customer-care-champions-elevate-every-interaction-2839
END:VEVENT

END:VCALENDAR
