BEGIN:VCALENDAR
VERSION:2.0
PRODID:-//ChamberMaster//Event Calendar 2.0//EN
METHOD:PUBLISH
X-PUBLISHED-TTL:P3D
REFRESH-INTERVAL:P3D
CALSCALE:GREGORIAN
BEGIN:VEVENT
DTSTART:20250417T000000Z
DTEND:20250417T013000Z
X-MICROSOFT-CDO-ALLDAYEVENT:FALSE
SUMMARY:Developing a Marketing Plan - Business Insight Workshop
DESCRIPTION:Join us on Wednesday\, April 16\, 2025\n\n6:00PM-7:30PM for those joining in Saskatchewan\n\n7:00PM-8:30pm for those joining in Manitoba\n\nWorkshop Overview:\n\nBy the end of this workshop\, participants will have explored an understanding of their business landscape and developing a foundational marketing plan tailored to their unique business needs.\n\nFacilitated by Carolyn Carleton\, we will explore the following topics:\n\n\n	Understanding Your Business\n	Analyzing the Market Landscape\n	Competitive Analysis\n	Crafting Your Marketing Strategy\n	Bringing It All Together and time for Q&A
X-ALT-DESC;FMTTYPE=text/html:<p style="margin: 0px\; padding: 0px\; box-sizing: border-box\; font-size: 16px\; line-height: 1.5rem\; color: rgb(111\, 114\, 135)\; font-family: &quot\;Neue Plak&quot\;\, -apple-system\, BlinkMacSystemFont\, Roboto\, &quot\;Helvetica Neue&quot\;\, Helvetica\, Tahoma\, Arial\, sans-serif\;"><span style="font-size:14px\;">Join us on Wednesday\, April 16\, 2025</span></p>\n\n<p style="margin: 0px\; padding: 10px 0px 0px\; box-sizing: border-box\; font-size: 16px\; line-height: 1.5rem\; color: rgb(111\, 114\, 135)\; font-family: &quot\;Neue Plak&quot\;\, -apple-system\, BlinkMacSystemFont\, Roboto\, &quot\;Helvetica Neue&quot\;\, Helvetica\, Tahoma\, Arial\, sans-serif\;"><span style="font-size:14px\;">6:00PM-7:30PM for those joining in Saskatchewan</span></p>\n\n<p style="margin: 0px\; padding: 10px 0px 0px\; box-sizing: border-box\; font-size: 16px\; line-height: 1.5rem\; color: rgb(111\, 114\, 135)\; font-family: &quot\;Neue Plak&quot\;\, -apple-system\, BlinkMacSystemFont\, Roboto\, &quot\;Helvetica Neue&quot\;\, Helvetica\, Tahoma\, Arial\, sans-serif\;"><span style="font-size:14px\;">7:00PM-8:30pm for those joining in Manitoba</span></p>\n\n<p style="margin: 0px\; padding: 10px 0px 0px\; box-sizing: border-box\; font-size: 16px\; line-height: 1.5rem\; color: rgb(111\, 114\, 135)\; font-family: &quot\;Neue Plak&quot\;\, -apple-system\, BlinkMacSystemFont\, Roboto\, &quot\;Helvetica Neue&quot\;\, Helvetica\, Tahoma\, Arial\, sans-serif\;"><span style="font-size:14px\;">Workshop Overview:</span></p>\n\n<p style="margin: 0px\; padding: 10px 0px 0px\; box-sizing: border-box\; font-size: 16px\; line-height: 1.5rem\; color: rgb(111\, 114\, 135)\; font-family: &quot\;Neue Plak&quot\;\, -apple-system\, BlinkMacSystemFont\, Roboto\, &quot\;Helvetica Neue&quot\;\, Helvetica\, Tahoma\, Arial\, sans-serif\;"><span style="font-size:14px\;">By the end of this workshop\, participants will have explored an understanding of their business landscape and developing a foundational marketing plan tailored to their unique business needs.</span></p>\n\n<p style="margin: 0px\; padding: 10px 0px 0px\; box-sizing: border-box\; font-size: 16px\; line-height: 1.5rem\; color: rgb(111\, 114\, 135)\; font-family: &quot\;Neue Plak&quot\;\, -apple-system\, BlinkMacSystemFont\, Roboto\, &quot\;Helvetica Neue&quot\;\, Helvetica\, Tahoma\, Arial\, sans-serif\;"><span style="font-size:14px\;">Facilitated by Carolyn Carleton\, we will explore the following topics:</span></p>\n\n<ul style="margin: 0px\; padding-top: 10px\; padding-right: 0px\; padding-left: 2em\; list-style-position: initial\; list-style-image: initial\; box-sizing: border-box\; font-size: 16px\; line-height: 1.5rem\; color: rgb(111\, 114\, 135)\; font-family: &quot\;Neue Plak&quot\;\, -apple-system\, BlinkMacSystemFont\, Roboto\, &quot\;Helvetica Neue&quot\;\, Helvetica\, Tahoma\, Arial\, sans-serif\;">\n	<li style="margin: 0px\; padding: 0px\; box-sizing: border-box\;"><span style="font-size:14px\;">Understanding Your Business</span></li>\n	<li style="margin: 0px\; padding: 5px 0px 0px\; box-sizing: border-box\;"><span style="font-size:14px\;">Analyzing the Market Landscape</span></li>\n	<li style="margin: 0px\; padding: 5px 0px 0px\; box-sizing: border-box\;"><span style="font-size:14px\;">Competitive Analysis</span></li>\n	<li style="margin: 0px\; padding: 5px 0px 0px\; box-sizing: border-box\;"><span style="font-size:14px\;">Crafting Your Marketing Strategy</span></li>\n	<li style="margin: 0px\; padding: 5px 0px 0px\; box-sizing: border-box\;"><span style="font-size:14px\;">Bringing It All Together and time for Q&amp\;A</span></li>\n</ul>\n
LOCATION:Online - Virtual
UID:e.1595.2801
SEQUENCE:3
DTSTAMP:20260419T160322Z
URL:https://members.brandonchamber.ca/events/details/developing-a-marketing-plan-business-insight-workshop-2801
END:VEVENT

END:VCALENDAR
