BEGIN:VCALENDAR
VERSION:2.0
PRODID:-//ChamberMaster//Event Calendar 2.0//EN
METHOD:PUBLISH
X-PUBLISHED-TTL:P3D
REFRESH-INTERVAL:P3D
CALSCALE:GREGORIAN
BEGIN:VEVENT
DTSTART:20250510T230000Z
DTEND:20250511T020000Z
X-MICROSOFT-CDO-ALLDAYEVENT:FALSE
SUMMARY:Drinking Habits Fundraising Dinner
DESCRIPTION:Join us on Saturday May 10th for an unforgettable evening of laughter and great food with "Drinking Habits\," a fundraising dinner in support of Daly House Museum.  Enjoy a roast beef dinner and the hilarious farce "Drinking Habits" brought to life by the talented performers of Exit Stage Left from Carberry.\n\n\n\n \n\n\n\nExperience the comedic chaos as two nuns at the Sisters of Perpetual Sewing create wine to save their convent\, while undercover reporters Paul and Sally\, who share a complicated past\, stir up even more confusion. With the arrival of a new nun and the fear of spies from Rome\, the convent turns into a whirlwind of wine\, secrets\, and rekindled romances.\n\n\n\n \n\n\nThe roast beef dinner and theatre event will take place at the Ukrainian Reading Association Hall at 1005 Assiniboine Avenue. Doors open at 6:00 pm. Seating is limited so get your tickets before they're gone!\n\n \n\n\nTickets are $65.00 for non-members and  $60.00 from members.  They can be purchased in-person at Daly House or online through Eventbrite. For more information visit  our website
X-ALT-DESC;FMTTYPE=text/html:<div>\n<div><span style="font-family:inherit">Join us on Saturday May 10th for an unforgettable evening of laughter and great food with &quot\;Drinking Habits\,&quot\; a fundraising dinner in support of Daly House Museum.&nbsp\; Enjoy a roast beef dinner and the hilarious farce &quot\;Drinking Habits&quot\; brought to life by the talented performers of Exit Stage Left from Carberry.</span></div>\n</div>\n\n<div>\n<div>&nbsp\;</div>\n</div>\n\n<div>\n<div><span style="font-family:inherit">Experience the comedic chaos as two nuns at the Sisters of Perpetual Sewing create wine to save their convent\, while undercover reporters Paul and Sally\, who share a complicated past\, stir up even more confusion. With the arrival of a new nun and the fear of spies from Rome\, the convent turns into a whirlwind of wine\, secrets\, and rekindled romances.</span></div>\n</div>\n\n<div>\n<div>&nbsp\;</div>\n</div>\n\n<div>The roast beef dinner and theatre event will take place at the Ukrainian Reading Association Hall at 1005 Assiniboine Avenue. Doors open at 6:00 pm. Seating is limited so get your tickets before they&#39\;re gone!<br />\n&nbsp\;</div>\n\n<div>\n<div><span style="font-family:inherit">Tickets are $65.00 for non-members and&nbsp\; $60.00 from members.&nbsp\; They can be purchased in-person at Daly House or online through <a href="https://bit.ly/3FlOiNo">Eventbrite</a>. For more information visit&nbsp\; our <a href="https://dalyhousemuseum.ca/dinner-theatre-event/">website</a></span></div>\n</div>\n
LOCATION:Ukrainian Reading Association Hall 1005 Assiniboine Avenue Brandon\, Manitoba
UID:e.1595.2799
SEQUENCE:3
DTSTAMP:20260419T132040Z
URL:https://members.brandonchamber.ca/events/details/drinking-habits-fundraising-dinner-2799
END:VEVENT

END:VCALENDAR
