BEGIN:VCALENDAR
VERSION:2.0
PRODID:-//ChamberMaster//Event Calendar 2.0//EN
METHOD:PUBLISH
X-PUBLISHED-TTL:P3D
REFRESH-INTERVAL:P3D
CALSCALE:GREGORIAN
BEGIN:VEVENT
DTSTART:20250424T160000Z
DTEND:20250424T190000Z
X-MICROSOFT-CDO-ALLDAYEVENT:FALSE
SUMMARY:Job Fair
DESCRIPTION:Our job fair aims to provide students with invaluable opportunities to explore potential career paths\, gain insights into various industries\, and connect with local businesses like yours. By participating\, your company will have the chance to engage with talented and motivated high school students eager to gain work experience and contribute to the workforce.\n\nWe believe that your presence at our job fair would be mutually beneficial. Whether you have part-time positions\, summer jobs\, internships\, entry-level opportunities\, or volunteer positions available\, this event offers a platform for you to showcase them to our students.
X-ALT-DESC;FMTTYPE=text/html:<span style="font-size:14px\;">Our job fair aims to provide students with invaluable opportunities to explore potential career paths\, gain insights into various industries\, and connect with local businesses like yours. By participating\, your company will have the chance to engage with talented and motivated high school students eager to gain work experience and contribute to the workforce.<br />\nWe believe that your presence at our job fair would be mutually beneficial. Whether you have part-time positions\, summer jobs\, internships\, entry-level opportunities\, or volunteer positions available\, this event offers a platform for you to showcase them to our students.</span><br />\n<br />\n<br />\n&nbsp\;
LOCATION:Vincent Massey High School 715 McDiarmid Dr\, Brandon\, MB
UID:e.1595.2845
SEQUENCE:3
DTSTAMP:20260423T140822Z
URL:https://members.brandonchamber.ca/events/details/job-fair-2845
END:VEVENT

END:VCALENDAR
