BEGIN:VCALENDAR
VERSION:2.0
PRODID:-//ChamberMaster//Event Calendar 2.0//EN
METHOD:PUBLISH
X-PUBLISHED-TTL:P3D
REFRESH-INTERVAL:P3D
CALSCALE:GREGORIAN
BEGIN:VEVENT
DTSTART:20250409T200000Z
DTEND:20250409T220000Z
X-MICROSOFT-CDO-ALLDAYEVENT:FALSE
SUMMARY:Mastering Your Money: Simplifying Taxes & Bookkeeping
DESCRIPTION:Presented by: Akrual. Tax and Accounting.\n\nManaging finances doesn't have to be overwhelming! This workshop will equip you with simple\, effective bookkeeping and tax strategies to help you save time and money while keeping your business financially healthy.\n\nIn this workshop\, you'll learn:\n\n\n	Essential bookkeeping practices for entrepreneurs.\n	How to organize your finances for tax season.\n	Tips to maximize deductions and avoid common mistakes.\n\n\nLimited spots available
X-ALT-DESC;FMTTYPE=text/html:<p style="box-sizing: border-box\; margin-bottom: 20px\; font-size: 18px\; line-height: inherit\; margin-top: 0px\; color: rgb(74\, 78\, 87)\; font-family: Lato\, Arial\, Helvetica\, sans-serif\;"><span style="font-size:14px\;">Presented by: Akrual. Tax and Accounting.</span></p>\n\n<p style="box-sizing: border-box\; margin-bottom: 20px\; font-size: 18px\; line-height: inherit\; margin-top: 0px\; color: rgb(74\, 78\, 87)\; font-family: Lato\, Arial\, Helvetica\, sans-serif\;"><span style="font-size:14px\;">Managing finances doesn&rsquo\;t have to be overwhelming! This workshop will equip you with simple\, effective bookkeeping and tax strategies to help you save time and money while keeping your business financially healthy.</span></p>\n\n<p class="cvGsUA direction-ltr align-start para-style-body" style="box-sizing: border-box\; margin-bottom: 20px\; font-size: 18px\; line-height: inherit\; margin-top: 0px\; color: rgb(74\, 78\, 87)\; font-family: Lato\, Arial\, Helvetica\, sans-serif\;"><span style="font-size:14px\;"><span class="OYPEnA font-feature-liga-off font-feature-clig-off font-feature-calt-off text-decoration-none text-strikethrough-none" style="box-sizing: border-box\;">In this workshop\, you&rsquo\;ll learn:</span></span></p>\n\n<ul style="box-sizing: border-box\; margin-bottom: 20px\; padding-right: 0px\; padding-left: 0px\; font-size: 18px\; line-height: inherit\; list-style-position: inside\; margin-top: 0px\; color: rgb(74\, 78\, 87)\; font-family: Lato\, Arial\, Helvetica\, sans-serif\;">\n	<li style="box-sizing: border-box\;"><span style="font-size:14px\;"><span class="OYPEnA font-feature-liga-off font-feature-clig-off font-feature-calt-off text-decoration-none text-strikethrough-none" style="box-sizing: border-box\;">Essential bookkeeping practices for entrepreneurs.</span></span></li>\n	<li style="box-sizing: border-box\;"><span style="font-size:14px\;"><span class="OYPEnA font-feature-liga-off font-feature-clig-off font-feature-calt-off text-decoration-none text-strikethrough-none" style="box-sizing: border-box\;">How to organize your finances for tax season.</span></span></li>\n	<li style="box-sizing: border-box\;"><span style="font-size:14px\;"><span class="OYPEnA font-feature-liga-off font-feature-clig-off font-feature-calt-off text-decoration-none text-strikethrough-none" style="box-sizing: border-box\;">Tips to maximize deductions and avoid common mistakes.</span></span></li>\n</ul>\n\n<p style="box-sizing: border-box\; margin-bottom: 20px\; font-size: 18px\; line-height: inherit\; margin-top: 0px\; color: rgb(74\, 78\, 87)\; font-family: Lato\, Arial\, Helvetica\, sans-serif\;"><span style="font-size:14px\;">Limited spots available</span></p>\n
LOCATION:Entrepreneur Hub 902 Rosser Avenue
UID:e.1595.2837
SEQUENCE:3
DTSTAMP:20260423T141024Z
URL:https://members.brandonchamber.ca/events/details/mastering-your-money-simplifying-taxes-bookkeeping-2837
END:VEVENT

END:VCALENDAR
