BEGIN:VCALENDAR
VERSION:2.0
PRODID:-//ChamberMaster//Event Calendar 2.0//EN
METHOD:PUBLISH
X-PUBLISHED-TTL:P3D
REFRESH-INTERVAL:P3D
CALSCALE:GREGORIAN
BEGIN:VEVENT
DTSTART:20240228T150000Z
DTEND:20240228T213000Z
X-MICROSOFT-CDO-ALLDAYEVENT:FALSE
SUMMARY:North Forge Intellectual Property Summit
DESCRIPTION:Join North Forge Technology Exchange on February 28th as we bring together industry experts\, entrepreneurs\, and legal professionals for a day of insights\, discussions\, and networking.\n\n\n\nWhy Intellectual Property Matters for Start-ups:\n\nIn an era driven by innovation\, understanding and safeguarding intellectual property is crucial for the success of startups. Our summit aims to raise awareness about the significance of intellectual property rights\, providing startups with the insights needed to protect their ideas and creations.\n\n\n\nWhat to Expect:\n\n	Panel Discussions: Engage with thought leaders and industry experts through a series of panel discussions covering topics such as patent strategies\, trademark essentials\, and the role of IP in funding and investment.\n	Networking Opportunities: Connect with fellow entrepreneurs\, investors\, and mentors. Build lasting relationships that could be the key to your startup's growth.\n	Legal Lounge: Navigate the legal landscape with ease in our exclusive Legal Lounge. Meet one-on-one with experienced lawyers specializing in intellectual property. Get your burning legal questions answered and gain valuable guidance for your startup journey.\n\nFunding Insight: North Forge is a recipient of the federally funded ElevateIP program that is aimed to equip Canadian start-ups with the essential resources and tools to understand\, develop\, and leverage their intellectual property.\n\n\n\nLimited slots available\, RSVP now to secure your spot and embark on a journey to harness the full potential of intellectual property in entrepreneurship.\n\nhttps://www.eventbrite.ca/e/intellectual-property-summit-tickets-757929055207?aff=oddtdtcreator
X-ALT-DESC;FMTTYPE=text/html:<span style="font-size:14px\;"><span style="font-family:arial\;">Join North Forge Technology Exchange on February 28th as we bring together industry experts\, entrepreneurs\, and legal professionals for a day of insights\, discussions\, and networking.<br />\n<br />\n<strong>Why Intellectual Property Matters for Start-ups:</strong><br />\nIn an era driven by innovation\, understanding and safeguarding intellectual property is crucial for the success of startups. Our summit aims to raise awareness about the significance of intellectual property rights\, providing startups with the insights needed to protect their ideas and creations.<br />\n<br />\n<strong>What to Expect:</strong></span></span>\n<ul>\n	<li style="background:white\;"><span style="font-size:14px\;"><span style="font-family:arial\;"><strong>Panel Discussions:</strong>&nbsp\;Engage with thought leaders and industry experts through a series of panel discussions covering topics such as patent strategies\, trademark essentials\, and the role of IP in funding and investment.</span></span></li>\n	<li style="background:white\;"><span style="font-size:14px\;"><span style="font-family:arial\;"><strong>Networking Opportunities:</strong>&nbsp\;Connect with fellow entrepreneurs\, investors\, and mentors. Build lasting relationships that could be the key to your startup&#39\;s growth.</span></span></li>\n	<li style="background:white\;"><span style="font-size:14px\;"><span style="font-family:arial\;"><strong>Legal Lounge:</strong>&nbsp\;Navigate the legal landscape with ease in our exclusive Legal Lounge. Meet one-on-one with experienced lawyers specializing in intellectual property. Get your burning legal questions answered and gain valuable guidance for your startup journey.</span></span></li>\n</ul>\n<span style="font-size:14px\;"><span style="font-family:arial\;"><strong>Funding Insight:</strong>&nbsp\;North Forge is a recipient of the federally funded ElevateIP program that is aimed to equip Canadian start-ups with the essential resources and tools to understand\, develop\, and leverage their intellectual property.<br />\n<br />\nLimited slots available\, RSVP now to secure your spot and embark on a journey to harness the full potential of intellectual property in entrepreneurship.<br />\n<a href="https://www.eventbrite.ca/e/intellectual-property-summit-tickets-757929055207?aff=oddtdtcreator"><span style="color:windowtext\;">https://www.eventbrite.ca/e/intellectual-property-summit-tickets-757929055207?aff=oddtdtcreator</span></a><br />\n&nbsp\;</span></span>
LOCATION:Delta Winnipeg Hotel\, Winnipeg\, MB
UID:e.1595.2663
SEQUENCE:3
DTSTAMP:20260422T111708Z
URL:https://members.brandonchamber.ca/events/details/north-forge-intellectual-property-summit-2663
END:VEVENT

END:VCALENDAR
