BEGIN:VCALENDAR
VERSION:2.0
PRODID:-//ChamberMaster//Event Calendar 2.0//EN
METHOD:PUBLISH
X-PUBLISHED-TTL:P3D
REFRESH-INTERVAL:P3D
CALSCALE:GREGORIAN
BEGIN:VEVENT
DTSTART:20241107T213000Z
DTEND:20241108T000000Z
X-MICROSOFT-CDO-ALLDAYEVENT:FALSE
SUMMARY:CPA Manitoba's Regional Mixer Featuring Catherine Wreford
DESCRIPTION:CPA Manitoba invites CPA members\, candidates\, students and other business professionals to join us at the Regional Mixer on November 7. The event will include networking and a keynote presentation from Catherine Wreford\, an international actor\, dancer\, motivational speaker and winner of Season 8 of The Amazing Race Canada. \n\n\n\nThose in attendance will have a chance to win a pair of premium tickets to the Winnipeg Jets vs. Minnesota Wild game on December 21!\n\n\n\nAppetizers and light refreshments will be provided. \n\n \n\n\nKeynote: Overcoming Adversity\n\nCatherine has faced many levels of adversity   always with a positive attitude that has almost always led to success!  In this presentation\, she'll tell stories from her life to explain that tough times can show you that you're made of strong stuff as you learn and grow as a person. \n\n\n\nCase in point   Catherine's plans as a wife and mother\, plus her career as a nurse\, were shattered by a diagnosis of terminal brain cancer. That was more than ten years ago. In those years\, she has learned that what others label as adversity can actually be positive surprises loaded with love. She acknowledges that accepting change is hard\, but not accepting it makes life harder.\n\n\n\nThis keynote will brighten your sense of humour and help you surround yourself with people who share your newly positive mindset. Catherine promises you'll never be afraid to shoot for the stars again!\n\n \n\n\nRegistration is open until Thursday\, October 24.
X-ALT-DESC;FMTTYPE=text/html:CPA Manitoba invites CPA members\, candidates\, students and other business professionals to join us at the Regional Mixer on November 7. The event will include networking and a keynote presentation from Catherine Wreford\, an international actor\, dancer\, motivational speaker and winner of Season 8 of The Amazing Race Canada.&nbsp\;<br />\n<br />\nThose in attendance will have a chance to win a pair of premium tickets to the Winnipeg Jets vs. Minnesota Wild game on December 21!<br />\n<br />\nAppetizers and light refreshments will be provided.&nbsp\;<br />\n&nbsp\;\n<hr /><br />\n<strong>Keynote: Overcoming Adversity</strong><br />\nCatherine has faced many levels of adversity &ndash\; always with a positive attitude that has almost always led to success!&nbsp\; In this presentation\, she&rsquo\;ll tell stories from her life to explain that tough times can show you that you&rsquo\;re made of strong stuff as you learn and grow as a person.&nbsp\;<br />\n<br />\nCase in point &ndash\; Catherine&rsquo\;s plans as a wife and mother\, plus her career as a nurse\, were shattered by a diagnosis of terminal brain cancer. That was more than ten years ago. In those years\, she has learned that what others label as adversity can actually be positive surprises loaded with love. She acknowledges that accepting change is hard\, but not accepting it makes life harder.<br />\n<br />\nThis keynote will brighten your sense of humour and help you surround yourself with people who share your newly positive mindset. Catherine promises you&rsquo\;ll never be afraid to shoot for the stars again!<br />\n&nbsp\;\n<hr /><br />\nRegistration is open until Thursday\, October 24.
LOCATION:The Firehall 637 Princess Avenue\, Brandon\, MB
UID:e.1595.2751
SEQUENCE:3
DTSTAMP:20260421T085030Z
URL:https://members.brandonchamber.ca/events/details/regional-mixer-featuring-catherine-wreford-2751
END:VEVENT

END:VCALENDAR
