BEGIN:VCALENDAR
VERSION:2.0
PRODID:-//ChamberMaster//Event Calendar 2.0//EN
METHOD:PUBLISH
X-PUBLISHED-TTL:P3D
REFRESH-INTERVAL:P3D
CALSCALE:GREGORIAN
BEGIN:VEVENT
DTSTART:20230517T140000Z
DTEND:20230517T220000Z
X-MICROSOFT-CDO-ALLDAYEVENT:FALSE
SUMMARY:Seniors Day
DESCRIPTION:Looking for something fun to do? Every Wednesday starting January 11 is Seniors Day at Alternative Choice Garden Centre! We will have great specials\, discounts\, and free coffee!\n\nOur facility is fully wheelchair accessible\, with a large flat parking lot\, lots of room to move around\, and the perfect place to escape the winter weather. The bight\, sun soaked greenhouses are a tropical paradise.\n\n\n\n*55 plus
X-ALT-DESC;FMTTYPE=text/html:Looking for something fun to do? Every Wednesday starting January 11 is Seniors Day at Alternative Choice Garden Centre! We will have great specials\, discounts\, and free coffee!<br />\nOur facility is fully wheelchair accessible\, with a large flat parking lot\, lots of room to move around\, and the perfect place to escape the winter weather. The bight\, sun soaked greenhouses are a tropical paradise.<br />\n<br />\n*55 plus
LOCATION:Alternative Choice Garden Centre 34th and Patricia Ave\, Brandon\, MB
UID:e.1595.2354
SEQUENCE:3
DTSTAMP:20260420T004239Z
URL:https://members.brandonchamber.ca/events/details/seniros-day-05-17-2023-2354
END:VEVENT

END:VCALENDAR
