BEGIN:VCALENDAR
VERSION:2.0
PRODID:-//ChamberMaster//Event Calendar 2.0//EN
METHOD:PUBLISH
X-PUBLISHED-TTL:P3D
REFRESH-INTERVAL:P3D
CALSCALE:GREGORIAN
BEGIN:VEVENT
DTSTART:20250503T190000Z
DTEND:20250503T200000Z
X-MICROSOFT-CDO-ALLDAYEVENT:FALSE
SUMMARY:Show and Tell: Birdwatching In Westman
DESCRIPTION:The Brandon General Museum and Archives thrilled to announce that Gillian and Gwynfor Richards are our next Show & Tell speakers with their presentation Birdwatching In Westman. This presentation will feature some of their photography\, information on where to go looking\, and more to get you started on your bird watch journey! This talk will be held in the BJ Hales Natural History Gallery.\n\nJoin us on May 3 at 2pm at the BGMA for this fantastic talk.\n\nAn informal Q&A will follow the presentation. These talks are by donation\, but space is limited\, so best to reserve your spot by emailing bgmainfo@wcgwave.ca or calling 204-717-1514
X-ALT-DESC;FMTTYPE=text/html:<p>The Brandon General Museum and Archives thrilled to announce that Gillian and Gwynfor Richards are our next Show &amp\; Tell speakers with their presentation Birdwatching In Westman. This presentation will feature some of their photography\, information on where to go looking\, and more to get you started on your bird watch journey! This talk will be held in the BJ Hales Natural History Gallery.</p>\n\n<p>Join us on May 3 at 2pm at the BGMA for this fantastic talk.</p>\n\n<p>An informal Q&amp\;A will follow the presentation. These talks are by donation\, but space is limited\, so best to reserve your spot by emailing bgmainfo@wcgwave.ca or calling 204-717-1514</p>\n
LOCATION:19-9th Street\, Unit 101
UID:e.1595.2849
SEQUENCE:3
DTSTAMP:20260419T132307Z
URL:https://members.brandonchamber.ca/events/details/show-and-tell-birdwatching-in-westman-2849
END:VEVENT

END:VCALENDAR
