BEGIN:VCALENDAR
VERSION:2.0
PRODID:-//ChamberMaster//Event Calendar 2.0//EN
METHOD:PUBLISH
X-PUBLISHED-TTL:P3D
REFRESH-INTERVAL:P3D
CALSCALE:GREGORIAN
BEGIN:VEVENT
DTSTART:20221016T160000Z
DTEND:20221016T210000Z
X-MICROSOFT-CDO-ALLDAYEVENT:FALSE
SUMMARY:Vintage Toys & Collectibles Sale
DESCRIPTION:Some proceeds will be going to the Brandon Humane Society!
X-ALT-DESC;FMTTYPE=text/html:<br />\n<br />\nSome proceeds will be going to the Brandon Humane Society!
LOCATION:Clarion Hotel\, Brandon (3130 Victoria Ave)
UID:e.1595.2289
SEQUENCE:3
DTSTAMP:20260422T082820Z
URL:https://members.brandonchamber.ca/events/details/vintage-toys-collectibles-sale-2289
END:VEVENT

END:VCALENDAR
