BEGIN:VCALENDAR
VERSION:2.0
PRODID:-//ChamberMaster//Event Calendar 2.0//EN
METHOD:PUBLISH
X-PUBLISHED-TTL:P3D
REFRESH-INTERVAL:P3D
CALSCALE:GREGORIAN
BEGIN:VEVENT
DTSTART;VALUE=DATE:20250402
DTEND;VALUE=DATE:20250403
TRANSP:TRANSPARENT
X-MICROSOFT-CDO-ALLDAYEVENT:TRUE
SUMMARY:We Are Brandon Photography Exhibit
DESCRIPTION:A NEW documentary photography exhibit titled We Are Brandon by Weichen Zhang is on display at the Brandon General Museum and Archives during the entire month of April. This incredible series showcases many of the wonderful people that make Brandon a unique and special place and is viewable during our regular hours. Opening reception is April 11 at 7pm.
X-ALT-DESC;FMTTYPE=text/html:<span style="font-family:aptos\,sans-serif"><span style="font-size:12.0pt">A NEW documentary photography exhibit titled We Are Brandon by Weichen Zhang is on display at the Brandon General Museum and Archives during the entire month of April. This incredible series showcases many of the wonderful people that make Brandon a unique and special place and is viewable during our regular hours. Opening reception is April 11 at 7pm.</span></span>
LOCATION:19-9th Street
UID:e.1595.2807
SEQUENCE:3
DTSTAMP:20260423T141204Z
URL:https://members.brandonchamber.ca/events/details/we-are-brandon-photography-exhibit-04-02-2025-2807
END:VEVENT

END:VCALENDAR
