BEGIN:VCALENDAR
VERSION:2.0
PRODID:-//ChamberMaster//Event Calendar 2.0//EN
METHOD:PUBLISH
X-PUBLISHED-TTL:P3D
REFRESH-INTERVAL:P3D
CALSCALE:GREGORIAN
BEGIN:VEVENT
DTSTART:20221025T190000Z
DTEND:20221025T210000Z
X-MICROSOFT-CDO-ALLDAYEVENT:FALSE
SUMMARY:Workplace Education Manitoba Meet & Greeet
DESCRIPTION:Please join us for coffee\, refreshments\, and a short presentation\n\n\n\nRSVP today!
X-ALT-DESC;FMTTYPE=text/html:<p>Please join us for coffee\, refreshments\, and a short presentation<br />\n<br />\nRSVP today!</p>\n
LOCATION:Riverbank Discovery Centre 545 Conservation Drive\, Brandon\, MB
UID:e.1595.2288
SEQUENCE:3
DTSTAMP:20260422T083745Z
URL:https://members.brandonchamber.ca/events/details/workplace-education-manitoba-meet-greeet-2288
END:VEVENT

END:VCALENDAR
